BEGIN:VCALENDAR
PRODID:-//AT Content Types//AT Event//EN
VERSION:2.0
METHOD:PUBLISH
BEGIN:VEVENT
DTSTAMP:20260423T225117Z
CREATED:20180613T074400Z
UID:ATEvent-845e856263a84e86897b6422d66b8df3
LAST-MODIFIED:20220629T114354Z
SUMMARY:ÉCOLE Les Chartreux CROIX-ROUSSE. ACCUEIL des élèves et de leurs parents
DTSTART:20220831T143000Z
DTEND:20220831T160000Z
LOCATION:École Les Chartreux Croix-Rousse. 9\, impasse des Chartreux. 69001.
CLASS:PUBLIC
END:VEVENT
END:VCALENDAR
