BEGIN:VCALENDAR
PRODID:-//AT Content Types//AT Event//EN
VERSION:1.0
BEGIN:VEVENT
DTSTART:20230905T071500Z
DTEND:20230905T071500Z
DCREATED:20200717T101138Z
UID:ATEvent-109050dbed844094bdcb5b9d6d3d2c98
SEQUENCE:0
LAST-MODIFIED:20230710T121830Z
SUMMARY:ÉCOLE Les Chartreux SAINT-ROMAIN. RENTRÉE des classes de maternelle : PS 2ème groupe.
DESCRIPTION:2ème groupe : E à Z
LOCATION:Institution des Chartreux\, École des Chartreux Saint-Romain. 72\, rue Pierre Brunier. 69300 CALUIRE-et-CUIRE
PRIORITY:3
TRANSP:0
END:VEVENT
END:VCALENDAR
