BEGIN:VCALENDAR
PRODID:-//AT Content Types//AT Event//EN
VERSION:1.0
BEGIN:VEVENT
DTSTART:20260108T230000Z
DTEND:20260110T230000Z
DCREATED:20251015T124019Z
UID:ATEvent-e398136eb1cf49b6aaa9350450236895
SEQUENCE:0
LAST-MODIFIED:20251015T124028Z
SUMMARY:LES CLASSES PRÉPARATOIRES AU SALON DE L'ÉTUDIANT
LOCATION:Eurexpo\, Bd de l'Europe\, 69680 Chassieu
PRIORITY:3
TRANSP:0
END:VEVENT
END:VCALENDAR
