BEGIN:VCALENDAR
PRODID:-//AT Content Types//AT Event//EN
VERSION:2.0
METHOD:PUBLISH
BEGIN:VEVENT
DTSTAMP:20260421T045049Z
CREATED:20260420T143852Z
UID:ATEvent-d6ffd4319247417ba2a8601a85a21b1c
LAST-MODIFIED:20260420T144021Z
SUMMARY:Soirée Inter promos BL
DTSTART:20260530T164500Z
DTEND:20260530T210000Z
DESCRIPTION:De la première promotion 2010 à celle qui quittera les C
 hartreux en juin\, toutes les promotions sont appelées à venir se re
 trouver le samedi 30 mai.
CLASS:PUBLIC
END:VEVENT
END:VCALENDAR
